BEGIN:VCALENDAR
VERSION:2.0
PRODID:-//ChamberMaster//Event Calendar 2.0//EN
METHOD:PUBLISH
X-PUBLISHED-TTL:P3D
REFRESH-INTERVAL:P3D
CALSCALE:GREGORIAN
BEGIN:VEVENT
DTSTART:20250821T220000Z
DTEND:20250822T000000Z
X-MICROSOFT-CDO-ALLDAYEVENT:FALSE
SUMMARY:Beach Glass Art Class
DESCRIPTION:Join Delinda Mariani from Stella Art Gallery in Willoughby to learn a little about beach glass and make a beach glass art piece.  You will be provided with all the materials needed to create your very own artwork\, or participants may bring in their own beach glass for the class or even just for show and tell. This class's art will be created in a frame. Tickets are $30 per person and include a glass of wine\, beer or mocktail!
X-ALT-DESC;FMTTYPE=text/html:Join Delinda Mariani from Stella Art Gallery in Willoughby to learn a little about beach glass and make a beach glass art piece.&nbsp\; You will be provided with all the materials needed to create your very own artwork\, or participants may bring in their own beach glass for the class or even just for show and tell. This class&#39\;s art will be created in a frame. Tickets are $30 per person and include a glass of wine\, beer or mocktail!
LOCATION:5750 S Madison Rd\, Madison\, OH 44057
UID:e.527.26843
SEQUENCE:3
DTSTAMP:20260421T091002Z
URL:https://business.easternlakecountychamber.org/events/details/beach-glass-art-class-08-21-2025-26843
END:VEVENT

END:VCALENDAR
