BEGIN:VCALENDAR
VERSION:2.0
PRODID:-//ChamberMaster//Event Calendar 2.0//EN
METHOD:PUBLISH
X-PUBLISHED-TTL:P3D
REFRESH-INTERVAL:P3D
CALSCALE:GREGORIAN
BEGIN:VEVENT
DTSTART:20200227T130000Z
DTEND:20200227T143000Z
X-MICROSOFT-CDO-ALLDAYEVENT:FALSE
SUMMARY:Breakfast with Senator John Eklund
DESCRIPTION:Join us for breakfast with Senator John Eklund who will be speaking on Senate Bill 3 which helps victims of addiction get treatment\, not just prison time\, and rebuild their lives without the consequences of a drug-related felony on their record.
X-ALT-DESC;FMTTYPE=text/html:Join us for breakfast with Senator John Eklund who will be speaking on Senate Bill 3 which helps victims of addiction get treatment\, not just prison time\, and rebuild their lives without the consequences of a drug-related felony on their record.
LOCATION:Lake Geauga Recovery Centers Office 9083 Mentor Avenue Mentor\, OH 44060
UID:e.527.19119
SEQUENCE:3
DTSTAMP:20260421T155201Z
URL:https://business.easternlakecountychamber.org/events/details/breakfast-with-senator-john-eklund-19119
END:VEVENT

END:VCALENDAR
