BEGIN:VCALENDAR
VERSION:2.0
PRODID:-//ChamberMaster//Event Calendar 2.0//EN
METHOD:PUBLISH
X-PUBLISHED-TTL:P3D
REFRESH-INTERVAL:P3D
CALSCALE:GREGORIAN
BEGIN:VEVENT
DTSTART:20210722T230000Z
DTEND:20210722T235000Z
X-MICROSOFT-CDO-ALLDAYEVENT:FALSE
SUMMARY:DanceFit
DESCRIPTION:DanceFit is a fun way to exercise utilizing dance.  \n\n\n\nNew students:  please arrive 15 minutes early to register.\n\n$10 per class\, adult 16+ \n\n$8 per class\, 55+ over
X-ALT-DESC;FMTTYPE=text/html:DanceFit is a fun way to exercise utilizing dance.&nbsp\;&nbsp\;<br />\n<br />\nNew students:&nbsp\; please arrive 15 minutes early to register.<br />\n$10 per class\, adult 16+&nbsp\;<br />\n$8 per class\, 55+ over
LOCATION:Great Lakes Market at Great Lakes Mall Located in the former Firestone Auto Center attached to the mall\, directly across the parking lot from Hobby Lobby
UID:e.527.20549
SEQUENCE:3
DTSTAMP:20260422T031320Z
URL:https://business.easternlakecountychamber.org/events/details/dancefit-07-22-2021-20549
END:VEVENT

END:VCALENDAR
