BEGIN:VCALENDAR
VERSION:2.0
PRODID:-//ChamberMaster//Event Calendar 2.0//EN
METHOD:PUBLISH
X-PUBLISHED-TTL:P3D
REFRESH-INTERVAL:P3D
CALSCALE:GREGORIAN
BEGIN:VEVENT
DTSTART:20240217T000000Z
DTEND:20240217T030000Z
X-MICROSOFT-CDO-ALLDAYEVENT:FALSE
SUMMARY:Karaoke at Debonné Vineyards
DESCRIPTION:Come sing! Belt out your favorite song with your best friend or beg your spouse to join you in a duet. Enjoy a night of fun with Karaoke at Debonn . We'll have liquid courage available by the glass and bottle!
X-ALT-DESC;FMTTYPE=text/html:Come sing! Belt out your favorite song with your best friend or beg your spouse to join you in a duet. Enjoy a night of fun with Karaoke at Debonn&eacute\;. We&rsquo\;ll have liquid courage available by the glass and bottle!
LOCATION:Debonn Vineyards 7840 Doty Rd. Madison\, OH 44057
UID:e.527.25374
SEQUENCE:3
DTSTAMP:20260421T092440Z
URL:https://business.easternlakecountychamber.org/events/details/karaoke-at-debonn&#233;-vineyards-25374
END:VEVENT

END:VCALENDAR
