BEGIN:VCALENDAR
VERSION:2.0
PRODID:-//ChamberMaster//Event Calendar 2.0//EN
METHOD:PUBLISH
X-PUBLISHED-TTL:P3D
REFRESH-INTERVAL:P3D
CALSCALE:GREGORIAN
BEGIN:VEVENT
DTSTART:20260613T220000Z
DTEND:20260614T030000Z
X-MICROSOFT-CDO-ALLDAYEVENT:FALSE
SUMMARY:Love Foundation Reverse Raffle & Dinner | Win $10\,000
DESCRIPTION:Join us for an unforgettable night at the LaVera Party Center on June 13\, 2026\, where great food\, music\, and excitement come together for a powerful cause.\n\nEnjoy a full dinner\, open bar\, live DJ\, and an exciting reverse raffle featuring a $10\,000 grand prize\, all in a fun\, high-energy atmosphere. Whether you're planning a night out with friends\, a date night\, or organizing a full table\, this event is designed to be both meaningful and memorable.\n\nHosted by Love Foundation\, this event supports local families who are facing crisis\, abuse\, trauma\, and poverty. Every ticket sold helps provide immediate essentials like food\, clothing\, and emergency support\, while also creating pathways toward long-term stability and independence.\n\nThis is more than just a fundraiser it's a chance to be part of something bigger\, while enjoying an incredible night out.
X-ALT-DESC;FMTTYPE=text/html:<p>Join us for an unforgettable night at the LaVera Party Center on June 13\, 2026\, where great food\, music\, and excitement come together for a powerful cause.</p>\n\n<p>Enjoy a full dinner\, open bar\, live DJ\, and an exciting reverse raffle featuring a <strong>$10\,000 grand prize</strong>\, all in a fun\, high-energy atmosphere. Whether you&rsquo\;re planning a night out with friends\, a date night\, or organizing a full table\, this event is designed to be both meaningful and memorable.</p>\n\n<p>Hosted by Love Foundation\, this event supports local families who are facing crisis\, abuse\, trauma\, and poverty. Every ticket sold helps provide immediate essentials like food\, clothing\, and emergency support\, while also creating pathways toward long-term stability and independence.</p>\n\n<p>This is more than just a fundraiser&mdash\;it&rsquo\;s a chance to be part of something bigger\, while enjoying an incredible night out.</p>\n
LOCATION:LaVera Party Center 32200 Chardon Road Willoughby Hills\, OH
UID:e.527.27240
SEQUENCE:3
DTSTAMP:20260423T091032Z
URL:https://business.easternlakecountychamber.org/events/details/love-foundation-reverse-raffle-dinner-win-10-000-27240
END:VEVENT

END:VCALENDAR
