BEGIN:VCALENDAR
VERSION:2.0
PRODID:-//ChamberMaster//Event Calendar 2.0//EN
METHOD:PUBLISH
X-PUBLISHED-TTL:P3D
REFRESH-INTERVAL:P3D
CALSCALE:GREGORIAN
BEGIN:VEVENT
DTSTART:20250227T230000Z
DTEND:20250228T003000Z
X-MICROSOFT-CDO-ALLDAYEVENT:FALSE
SUMMARY:Menopause and your pelvic floor Workshop & Screen: why your pelvic floor is affected during this period of your life and what you can do about it
DESCRIPTION:(Peri) Menopause is a time in your life where you might feel like you are chronically questioning what is happening in your body. Some of those questions might be about these new symptoms that popped up all the sudden\; things like new urinary leakage or urgency\, feeling like everything is going to fall out down there\, pelvic pain or even new found pain with intimacy. It doesn't have to be this way and we are going to answer these questions for you. \n\nWhat are the basics of (peri)menopause\n\nHow will hormones affect the pelvic floor and rest of the musculoskeletal system?\n\nHow you can help your leaking\, prolapse\, pain with intercourse or other generalized pain at this time in your life. \n\nSimple tips to start taking care of your pelvic floor now. \n\nMust RSVP: Please call or text (440)256-6268
X-ALT-DESC;FMTTYPE=text/html:<p><span style="color:rgb(0\, 0\, 0)\; font-family:arial\,sans-serif\; font-size:11pt">(Peri) Menopause is a time in your life where you might feel like you are chronically questioning what is happening in your body. Some of those questions might be about these new symptoms that popped up all the sudden\; things like new urinary leakage or urgency\, feeling like everything is going to fall out down there\, pelvic pain or even new found pain with intimacy. It doesn&rsquo\;t have to be this way and we are going to answer these questions for you.&nbsp\;</span></p>\n\n<p><span style="background-color:transparent\; color:rgb(0\, 0\, 0)\; font-family:arial\,sans-serif\; font-size:11pt">What are the basics of (peri)menopause</span></p>\n\n<p><span style="background-color:transparent\; color:rgb(0\, 0\, 0)\; font-family:arial\,sans-serif\; font-size:11pt">How will hormones affect the pelvic floor and rest of the musculoskeletal system?</span></p>\n\n<p><span style="background-color:transparent\; color:rgb(0\, 0\, 0)\; font-family:arial\,sans-serif\; font-size:11pt">How you can help your leaking\, prolapse\, pain with intercourse or other generalized pain at this time in your life.&nbsp\;</span></p>\n\n<p><span style="background-color:transparent\; color:rgb(0\, 0\, 0)\; font-family:arial\,sans-serif\; font-size:11pt">Simple tips to start taking care of your pelvic floor now.&nbsp\;</span></p>\n\n<div>Must RSVP: Please call or text (440)256-6268</div>\n
LOCATION:7575 Fredle Drive Suite 202 Painesville\, OH 44084
UID:e.527.26512
SEQUENCE:3
DTSTAMP:20260422T140611Z
URL:https://business.easternlakecountychamber.org/events/details/menopause-and-your-pelvic-floor-workshop-screen-why-your-pelvic-floor-is-affected-during-this-period-of-your-life-and-what-you-can-do-about-it-02-27-2025-26512
END:VEVENT

END:VCALENDAR
