BEGIN:VCALENDAR
VERSION:2.0
PRODID:-//ChamberMaster//Event Calendar 2.0//EN
METHOD:PUBLISH
X-PUBLISHED-TTL:P3D
REFRESH-INTERVAL:P3D
CALSCALE:GREGORIAN
BEGIN:VEVENT
DTSTART:20230105T133000Z
DTEND:20230105T133000Z
X-MICROSOFT-CDO-ALLDAYEVENT:FALSE
SUMMARY:Networking Power Hour - January 5\, 2023
DESCRIPTION:Start the New Year off by gathering with us for a Networking Power Hour (formerly known as Coffee Contacts).\n\nWe know our members highly value the networking opportunities the chamber offers. Share information about your business\, connect with potential clients and customers\, expand your network.\n\nJoin our friends from the Mentor Area Chamber and "resolve" to pump up your networking efforts in 2023!
X-ALT-DESC;FMTTYPE=text/html:<div>Start the New Year off by gathering with us for a <strong>Networking Power Hour</strong> (formerly known as Coffee Contacts).<br />\nWe know our members highly value the networking opportunities the chamber offers. Share information about your business\, connect with potential clients and customers\, expand your network.<br />\nJoin our friends from the Mentor Area Chamber and &quot\;resolve&quot\; to pump up your networking efforts in 2023!</div>\n<br />\n&nbsp\;
LOCATION:Lake-Geauga Recovery Centers 9083 Mentor Ave. Mentor\, OH 44060
UID:e.527.22556
SEQUENCE:3
DTSTAMP:20260420T071155Z
URL:https://business.easternlakecountychamber.org/events/details/networking-power-hour-january-5-2023-22556
END:VEVENT

END:VCALENDAR
