BEGIN:VCALENDAR
VERSION:2.0
PRODID:-//ChamberMaster//Event Calendar 2.0//EN
METHOD:PUBLISH
X-PUBLISHED-TTL:P3D
REFRESH-INTERVAL:P3D
CALSCALE:GREGORIAN
BEGIN:VEVENT
DTSTART:20221216T003000Z
DTEND:20221216T020000Z
X-MICROSOFT-CDO-ALLDAYEVENT:FALSE
SUMMARY:PUMC Concert Series: Burning River Brass
DESCRIPTION:Join us for an exciting performance by the renowned Burning River Brass right here in the PUMC Sanctuary!  This wonderful concert is an annual staple of our PUMC Concert Series\, which is provided free to the community thanks to the generosity of community and individual sponsors!  A free-will offering will be taken if you would like to contribute to sharing beautiful music with the community of Painesville and beyond!  Due to the popularity of this performance\, we recommend that you arrive 60-90 minutes early to select your seat.
X-ALT-DESC;FMTTYPE=text/html:Join us for an exciting performance by the renowned Burning River Brass right here in the PUMC Sanctuary!&nbsp\; This wonderful concert is an annual staple of our PUMC Concert Series\, which is provided free to the community thanks to the generosity of community and individual sponsors!&nbsp\; A free-will offering will be taken if you would like to contribute to sharing beautiful music with the community of Painesville and beyond!&nbsp\; Due to the popularity of this performance\, we recommend that you arrive 60-90 minutes early to select your seat.
LOCATION:Painesville United Methodist Church - Sanctuary 71 N. Park Place Painesville\, OH 44077
UID:e.527.22521
SEQUENCE:3
DTSTAMP:20260420T103628Z
URL:https://business.easternlakecountychamber.org/events/details/pumc-concert-series-burning-river-brass-22521
END:VEVENT

END:VCALENDAR
