BEGIN:VCALENDAR
VERSION:2.0
PRODID:-//ChamberMaster//Event Calendar 2.0//EN
METHOD:PUBLISH
X-PUBLISHED-TTL:P3D
REFRESH-INTERVAL:P3D
CALSCALE:GREGORIAN
BEGIN:VEVENT
DTSTART:20230924T150000Z
DTEND:20230924T170000Z
X-MICROSOFT-CDO-ALLDAYEVENT:FALSE
SUMMARY:"Pumpkin Patch Porch Sign" Step-by-Step Painting Class at Cask 307
DESCRIPTION:Join Rachel the owner and artist of The Dirty Palette as she guides you step by step in painting your masterpiece at Cask 307. All supplies are included\, aprons will be provided. Creativity is messy so come and get dirty with The Dirty Palette. This is painted on a wood plank. Class starts at 11AM. Food and drinks are available for purchase during the event. $40 per person. Sign up through the link directly with The Dirty Palette.
X-ALT-DESC;FMTTYPE=text/html:<span style="color:rgb(0\, 0\, 0)\; font-family:libre baskerville\,serif\; font-size:14px">Join Rachel the owner and artist of The Dirty Palette as she guides you step by step in painting your masterpiece at Cask 307. All supplies are included\, aprons will be provided. Creativity is messy so come and get dirty with The Dirty Palette. This is painted on a wood plank. Class starts at 11AM. Food and drinks are available for purchase during the event. $40 per person. Sign up through the link directly with The Dirty Palette.</span>
LOCATION:Cask 307 7259 Warner Rd. Madison\, OH 44057
UID:e.527.24323
SEQUENCE:3
DTSTAMP:20260420T210346Z
URL:https://business.easternlakecountychamber.org/events/details/pumpkin-patch-porch-sign-step-by-step-painting-class-at-cask-307-24323
END:VEVENT

END:VCALENDAR
