BEGIN:VCALENDAR
VERSION:2.0
PRODID:-//ChamberMaster//Event Calendar 2.0//EN
METHOD:PUBLISH
X-PUBLISHED-TTL:P3D
REFRESH-INTERVAL:P3D
CALSCALE:GREGORIAN
BEGIN:VEVENT
DTSTART:20261020T210000Z
DTEND:20261020T233000Z
X-MICROSOFT-CDO-ALLDAYEVENT:FALSE
SUMMARY:Signature Event - 10th Anniversary Celebration 10-20-26
DESCRIPTION:Help us celebrate 10 incredible years of championing and connecting our local business and civic community! \n\nIndulge in a vibrant evening filled with delicious bites and fine wines from some of our favorite local partners while toasting the relationships\, growth\, and success we've built together.
X-ALT-DESC;FMTTYPE=text/html:<p data-end="116" data-start="0">Help us celebrate <strong data-end="41" data-start="18">10 incredible years</strong> of championing and connecting our local business and civic community!&nbsp\;</p>\n\n<p data-end="310" data-is-last-node="" data-is-only-node="" data-start="118">Indulge in a vibrant evening filled with <strong data-end="193" data-start="159">delicious bites and fine wines</strong> from some of our favorite local partners&mdash\;while toasting the relationships\, growth\, and success we&rsquo\;ve built together.</p>\n
LOCATION:Standing Rock Farms 7497 Ross Rd. Madison\, OH 44057
UID:e.527.27231
SEQUENCE:3
DTSTAMP:20260423T021156Z
URL:https://business.easternlakecountychamber.org/events/details/signature-event-10th-anniversary-celebration-10-20-26-27231
END:VEVENT

END:VCALENDAR
