BEGIN:VCALENDAR
VERSION:2.0
PRODID:-//ChamberMaster//Event Calendar 2.0//EN
METHOD:PUBLISH
X-PUBLISHED-TTL:P3D
REFRESH-INTERVAL:P3D
CALSCALE:GREGORIAN
BEGIN:VEVENT
DTSTART:20261208T220000Z
DTEND:20261209T000000Z
X-MICROSOFT-CDO-ALLDAYEVENT:FALSE
SUMMARY:Signature Event - Holiday Mixer 12-8-26
DESCRIPTION:Join us for our Annual Holiday Mixer at Grand River Cellars\, where the winery will be transformed into a festive Grinchmas wonderland! Enjoy an evening of networking and holiday cheer with specialty food\, themed cocktails\, and plenty of seasonal fun.
X-ALT-DESC;FMTTYPE=text/html:<span style="color: rgb(51\, 51\, 51)\; font-family: sans-serif\, Arial\, Verdana\, &quot\;Trebuchet MS&quot\;\; font-size: 13px\; background-color: rgb(255\, 255\, 255)\;">Join us for our Annual Holiday Mixer at Grand River Cellars\, where the winery will be transformed into a festive Grinchmas wonderland! Enjoy an evening of networking and holiday cheer with specialty food\, themed cocktails\, and plenty of seasonal fun.</span>
LOCATION:Grand River Cellars Winery & Restaurant 5750 S. Madison Rd. (Rt. 528) Madison\, OH 44057
UID:e.527.27228
SEQUENCE:3
DTSTAMP:20260422T221832Z
URL:https://business.easternlakecountychamber.org/events/details/signature-event-holiday-mixer-12-8-26-27228
END:VEVENT

END:VCALENDAR
