BEGIN:VCALENDAR
VERSION:2.0
PRODID:-//ChamberMaster//Event Calendar 2.0//EN
METHOD:PUBLISH
X-PUBLISHED-TTL:P3D
REFRESH-INTERVAL:P3D
CALSCALE:GREGORIAN
BEGIN:VEVENT
DTSTART:20220520T160000Z
DTEND:20220520T190000Z
X-MICROSOFT-CDO-ALLDAYEVENT:FALSE
SUMMARY:Stigma-Free Faith
DESCRIPTION:Join us for our first ever Stigma-Free Faith educational event: The Role of Faith in Mental Health Recovery!\n\nThe event will include keynote speaker Brittney Moses\, mental health advocate\, writer and crisis counselor\, and a panel of professionals for Q&A\, networking\, and other activities.\n\nLunch will be provided.  The event is free of charge\, but donations are welcome.
X-ALT-DESC;FMTTYPE=text/html:<p style="margin-left:0px\; margin-right:0px">Join us for our first ever Stigma-Free Faith educational event: The Role of Faith in Mental Health Recovery!</p>\n\n<p style="margin-left:0px\; margin-right:0px">The event will include keynote speaker&nbsp\;<a href="https://brittneyamoses.com/" rel="noopener" style="box-sizing: border-box\; border-top: 0px\; border-right: 0px\; border-bottom: 1px solid var(--tec-color-link-accent)\; border-left: 0px\; border-image: initial\; margin: 0px\; padding: 0px\; background-color: transparent\; transition: var(--tec-transition-color)\; text-decoration-line: none\;" target="_blank">Brittney Moses</a>\, mental health advocate\, writer and crisis counselor\, and a panel of professionals for Q&amp\;A\, networking\, and other activities.</p>\n\n<p style="margin-left:0px\; margin-right:0px">Lunch will be provided.&nbsp\; The event is free of charge\, but donations are welcome.</p>\n
LOCATION:Paradigm Center - Mentor City Schools 6447 Center Street Mentor\, Ohio
UID:e.527.21527
SEQUENCE:3
DTSTAMP:20260422T005510Z
URL:https://business.easternlakecountychamber.org/events/details/stigma-free-faith-21527
END:VEVENT

END:VCALENDAR
