BEGIN:VCALENDAR
VERSION:2.0
PRODID:-//ChamberMaster//Event Calendar 2.0//EN
METHOD:PUBLISH
X-PUBLISHED-TTL:P3D
REFRESH-INTERVAL:P3D
CALSCALE:GREGORIAN
BEGIN:VEVENT
DTSTART;VALUE=DATE:20240215
DTEND;VALUE=DATE:20240216
TRANSP:TRANSPARENT
X-MICROSOFT-CDO-ALLDAYEVENT:TRUE
SUMMARY:Valentine's Day Dinner
DESCRIPTION:Dinner for two specials. Regular menu available as well.\n\nReservations are highly recommended.
X-ALT-DESC;FMTTYPE=text/html:<p>Dinner for two specials. Regular menu available as well.<br />\nReservations are highly recommended.</p>\n
LOCATION:5750 S Madison Rd\, Madison\, OH 44057
UID:e.527.25432
SEQUENCE:3
DTSTAMP:20260419T201630Z
URL:https://business.easternlakecountychamber.org/events/details/valentine-s-day-dinner-02-15-2024-25432
END:VEVENT

END:VCALENDAR
