BEGIN:VCALENDAR
VERSION:2.0
PRODID:-//ChamberMaster//Event Calendar 2.0//EN
METHOD:PUBLISH
X-PUBLISHED-TTL:P3D
REFRESH-INTERVAL:P3D
CALSCALE:GREGORIAN
BEGIN:VEVENT
DTSTART:20220806T150000Z
DTEND:20220806T190000Z
X-MICROSOFT-CDO-ALLDAYEVENT:FALSE
SUMMARY:Wings & Wheels
DESCRIPTION:Wings and Wheels is a community aircraft and car show.  It is an opportunity to see classic cars and vintage aircraft up close and personal.  Join us August 6th at the Lake County Executive Airport 11am - 3 pm for music\, food trucks and fun for the whole family. Registration for participants is 9-11am\; there is no fee to register!  Doors open to spectators at 11am\; no admission and no parking charges.  Trophies for Best in Show and Peoples Choice awarded at 2 pm.
X-ALT-DESC;FMTTYPE=text/html:Wings and Wheels is a community aircraft and car show.&nbsp\; It is an opportunity to see classic cars and vintage aircraft up close and personal.&nbsp\; Join us August 6th at the Lake County Executive Airport 11am - 3 pm for music\, food trucks and fun for the whole family. Registration for participants is 9-11am\; there is no fee to register!&nbsp\; Doors open to spectators at 11am\; no admission and no parking charges.&nbsp\; Trophies for Best in Show and Peoples Choice awarded at 2 pm.&nbsp\;&nbsp\;
LOCATION:Lake County Executive Airport 1969 Lost Nation Road Willoughby\, OH 44094
UID:e.527.22202
SEQUENCE:3
DTSTAMP:20260425T134608Z
URL:https://business.easternlakecountychamber.org/events/details/wings-wheels-08-06-2022-22202
END:VEVENT

END:VCALENDAR
